BEGIN:VCALENDAR
VERSION:2.0
PRODID:-//Our Events - ECPv6.15.20//NONSGML v1.0//EN
CALSCALE:GREGORIAN
METHOD:PUBLISH
X-WR-CALNAME:Our Events
X-ORIGINAL-URL:https://dev.our-events.de
X-WR-CALDESC:Veranstaltungen für Our Events
REFRESH-INTERVAL;VALUE=DURATION:PT1H
X-Robots-Tag:noindex
X-PUBLISHED-TTL:PT1H
BEGIN:VTIMEZONE
TZID:Europe/Berlin
BEGIN:DAYLIGHT
TZOFFSETFROM:+0100
TZOFFSETTO:+0200
TZNAME:CEST
DTSTART:20240331T010000
END:DAYLIGHT
BEGIN:STANDARD
TZOFFSETFROM:+0200
TZOFFSETTO:+0100
TZNAME:CET
DTSTART:20241027T010000
END:STANDARD
BEGIN:DAYLIGHT
TZOFFSETFROM:+0100
TZOFFSETTO:+0200
TZNAME:CEST
DTSTART:20250330T010000
END:DAYLIGHT
BEGIN:STANDARD
TZOFFSETFROM:+0200
TZOFFSETTO:+0100
TZNAME:CET
DTSTART:20251026T010000
END:STANDARD
BEGIN:DAYLIGHT
TZOFFSETFROM:+0100
TZOFFSETTO:+0200
TZNAME:CEST
DTSTART:20260329T010000
END:DAYLIGHT
BEGIN:STANDARD
TZOFFSETFROM:+0200
TZOFFSETTO:+0100
TZNAME:CET
DTSTART:20261025T010000
END:STANDARD
END:VTIMEZONE
BEGIN:VEVENT
DTSTART;TZID=Europe/Berlin:20251006T133000
DTEND;TZID=Europe/Berlin:20251010T153000
DTSTAMP:20260422T134200
CREATED:20250707T124355Z
LAST-MODIFIED:20250707T124355Z
UID:40318-1759757400-1760110200@dev.our-events.de
SUMMARY:Mittagstisch für Schüler
DESCRIPTION:Mittagstisch für Schüler\n\nKinder stark machen und Selbstbewusstsein aufbauen\, liegt dem SOS-Kinderdorf am Herzen. Und das nicht nur im SOS-Kinderdorf in Worpswede\, sondern ebenso in den familienunterstützenden offenen Angeboten in Bremen-Nord.\nSo hat sich der Mittagstisch des SOS-Kinderdorfes Worpswede in der Grohner Düne als offenes Angebot für Kinder und Jugendliche\, die sich im Übergang zwischen Grundschule und weiterführender Schule befinden\, zu einer festen Institution entwickelt. Dies schließt auch Kinder ab der vierten Klasse ein\, die aus unterschiedlichen Gründen keine Hortbetreuung in Anspruch nehmen können.\nMit unserem Angebot schaffen wir täglich für rund 20 selbstmotivierte Kinder und Jugendliche nach dem Schulalltag eine Anlaufstelle\, in der wir sie beteiligen und ihnen dadurch eine Atmosphäre schaffen\, in der sie sich angenommen\, wertgeschätzt und zugehörig fühlen. Hier gibt es nicht nur jeden Tag nach der Schule einen Mittagssnack\, sondern auch vielfältige Freizeitgestaltung wie Kreativangebote\, Gemeinschaftsspiele\, interkulturelles Kochen\, Hausaufgabenbetreuung und wöchentliches Fußballtraining mit Trainern von Werder Bremen im Rahmen\ndes „Spielraum“ Projektes.
URL:https://dev.our-events.de/event/mittagstisch-fuer-schueler/
LOCATION:Grown\, Friedrich-Klippert-Straße 2\, Bremen\, 28759
CATEGORIES:Treffpunkt
ATTACH;FMTTYPE=image/webp:https://dev.our-events.de/wp-content/uploads/2025/07/sos-kinderdorf.webp
END:VEVENT
BEGIN:VEVENT
DTSTART;TZID=Europe/Berlin:20251205T200000
DTEND;TZID=Europe/Berlin:20251205T210000
DTSTAMP:20260422T134200
CREATED:20251008T151121Z
LAST-MODIFIED:20251008T151121Z
UID:44076-1764964800-1764968400@dev.our-events.de
SUMMARY:umbra — Im digitalen Schatten
DESCRIPTION:Audiovisuelle Performance vonSlava Romanov & Chi Him Chik \nÜber das Event:\n\nWie verändert künstliche Intelligenz die Beziehung zwischen »Meister« und »Werkzeug«? Wo hört der Mensch auf\, wo beginnt die Maschine? Und wie beein­flussen neue Techno­logien unsere Wahrnehmung und den Umgang mit der Welt? Die audiovisuelle Performance »umbra« und die begleitenden Workshops laden das Publikum dazu ein\, eigene Antworten auf Fragen nach Identität und Bewusst­sein im digitalen Zeitalter zu finden. \nDer Musiker und Performer Chi Him Chik spielt mit seiner selbst entwickelten Impro­visations­maschine Aiii und dem multi­medialen Instrument Type-0《零式》. Gleichzeitig erschafft der Medien­künstler Slava Romanov Bilder\, die wie digitale Schatten auf einer beweglichen\, transparenten Leinwand erscheinen. In Echtzeit reagieren Bewegungen\, Klänge und Licht aufeinander – ein fortwährendes Spiel zwischen Realität und digitalem Spiegelbild. \nBegleitend zum Stück finden am Sa 6.12. von 10:00–12:00 und 14:00–16:00 kostenlose Workshops mit den Künstlern statt. Mehr Infos in Kürze. \nÜber die Künstler*innen:\n\n\nChi Him Chik oszilliert zwischen Identitäten und künstlerischen Praktiken. Der in Hongkong geborene Medien­künstler und Performer schöpft seine Inspiration aus den Reflexionen von Konflikten\, Dilemmata\, Schmerz und Chaos auf persönlicher\, sozialer und politischer Ebene. Dabei verbindet er Fähigkeiten\, Wissen und Ästhetiken aus verschiedenen Bereichen und Genres. Aus dem Spektrum seiner künstlerischer Sprachen entstehen einzigartige performative Erfahrungen. \nchihimchik.com  ↗ \nSlava Romanov ist ein in Bremen lebender Datenkünstler und Multimedia-Entwickler\, ursprünglich aus dem Ural\, Russland. Er entwirft interaktive Systeme\, die komplexe Fragen\, Geschichten und Emotionen in Echtzeit in visuelle und räumliche Erlebnisse übersetzen. Mit einem Hintergrund in Rechts­wissenschaften und Digitalen Medien untersucht seine international ausgestellte Arbeit Sprache\, Erinnerung und soziopolitische Prozesse und stellt dabei die Gegensätze von Chaos/­Ordnung\, Einfachheit/­Komplexität\, Analyse/­Spekulation und Mensch/­Maschine in Frage. \nslavaromanov.art  ↗ \nInstagram@umbra_mediaart ↗@davinel000 ↗@chihimchik ↗ \nBarrierefreiheit:\nDauer: Ca. 50 Minuten ohne PauseSprache: Englische LautspracheSound: Es gibt Passagen mit hoher LautstärkeLicht- & sonstige Effekte: Es kommen helle Lichtblitze und Nebel zum Einsatz \nAlle öffentlichen Bereiche der Schwankhalle sind ebenerdig und stufenlos erreichbar. \nEs gibt drei verschiedene WCs: Eine barierrefreie Toilette\, die auch für Rollstuhl-­Fahrer*innen nutzbar ist\, eine Toilette mit 3 WC-­Kabinen und eine Toilette mit Pissoirs und einer WC-Kabine. \nDer Publikumsbereich ist in der Regel bestuhlt.Die Rollstuhlplätze befinden sich in der ersten Reihe \n\n\n 
URL:https://dev.our-events.de/event/umbra-im-digitalen-schatten/
LOCATION:Schwankhalle\, Buntentorsteinweg 112/116\, Bremen\, 28201
CATEGORIES:Performance,Theater
ATTACH;FMTTYPE=image/jpeg:https://dev.our-events.de/wp-content/uploads/2025/10/Chi-Him-Chik_Slava-Romanov_umbra_c_Slava-Romanov_1_web.jpg
END:VEVENT
BEGIN:VEVENT
DTSTART;TZID=Europe/Berlin:20251205T200000
DTEND;TZID=Europe/Berlin:20251205T220000
DTSTAMP:20260422T134200
CREATED:20251005T142705Z
LAST-MODIFIED:20251005T142705Z
UID:43836-1764964800-1764972000@dev.our-events.de
SUMMARY:Habenhauser Schafferkonzerte - JAZZ Klaus Möckelmann Trio feat. Steffen Drabek
DESCRIPTION:Der Bratschist Steffen Drabek machte sich schon mehrfach als Arrangeur und bei seinem Auftritt mit Oleta Adams auch als Dirigent der Bremer Philharmoniker einen Namen. Gerne spielt Steffen jedoch auch in kleinen Besetzungen und als stilsicherer Improvisator taucht er auf mancher Jazzsession auf. Mit Klaus Möckelmann verbindet Steffen Drabek die gemeinsame Liebe zu lyrischen Melodien\, überraschenden Arrangements und deren improvisatorischen Möglichkeiten. Auf dem Programm stehen eigene Kompositionen sowie Bearbeitungen bekannter Jazzklassiker. \nSteffen Drabeck – Viola\nKlaus Möckelmann – Klavier\nMartin Gruet – Kontrabass\nRalf Jackowski – Schlagzeug \nCopyright Text & Bild: Simon-Petrus-Kirche
URL:https://dev.our-events.de/event/habenhauser-schafferkonzerte-jazz-klaus-moeckelmann-trio-feat-steffen-drabek/
LOCATION:Simon-Petri-Kirche Habenhausen\, Ev. Kirchengemeinde Arsten-Habenhausen\, Bremen\, Bremen\, 28279\, Germany
CATEGORIES:Konzert
ATTACH;FMTTYPE=image/jpeg:https://dev.our-events.de/wp-content/uploads/2025/10/moeckelmann-trio_dezember_700.jpg
END:VEVENT
END:VCALENDAR