BEGIN:VCALENDAR
VERSION:2.0
PRODID:-//Our Events - ECPv6.15.20//NONSGML v1.0//EN
CALSCALE:GREGORIAN
METHOD:PUBLISH
X-WR-CALNAME:Our Events
X-ORIGINAL-URL:https://dev.our-events.de
X-WR-CALDESC:Veranstaltungen für Our Events
REFRESH-INTERVAL;VALUE=DURATION:PT1H
X-Robots-Tag:noindex
X-PUBLISHED-TTL:PT1H
BEGIN:VTIMEZONE
TZID:Europe/Berlin
BEGIN:DAYLIGHT
TZOFFSETFROM:+0100
TZOFFSETTO:+0200
TZNAME:CEST
DTSTART:20240331T010000
END:DAYLIGHT
BEGIN:STANDARD
TZOFFSETFROM:+0200
TZOFFSETTO:+0100
TZNAME:CET
DTSTART:20241027T010000
END:STANDARD
BEGIN:DAYLIGHT
TZOFFSETFROM:+0100
TZOFFSETTO:+0200
TZNAME:CEST
DTSTART:20250330T010000
END:DAYLIGHT
BEGIN:STANDARD
TZOFFSETFROM:+0200
TZOFFSETTO:+0100
TZNAME:CET
DTSTART:20251026T010000
END:STANDARD
BEGIN:DAYLIGHT
TZOFFSETFROM:+0100
TZOFFSETTO:+0200
TZNAME:CEST
DTSTART:20260329T010000
END:DAYLIGHT
BEGIN:STANDARD
TZOFFSETFROM:+0200
TZOFFSETTO:+0100
TZNAME:CET
DTSTART:20261025T010000
END:STANDARD
END:VTIMEZONE
BEGIN:VEVENT
DTSTART;TZID=Europe/Berlin:20251214T110000
DTEND;TZID=Europe/Berlin:20251214T130000
DTSTAMP:20260422T133740
CREATED:20250924T104639Z
LAST-MODIFIED:20250924T104639Z
UID:43504-1765710000-1765717200@dev.our-events.de
SUMMARY:Verehrt und Verewigt // 4. Philharmonisches Konzert
DESCRIPTION:Werke von\n\nMaurice Ravel  (1875–1937)\nLe Tombeau de Couperin – Suite d’Orchestre (1919)\n\n\nJohannes Brahms  (1833­–1897)\nViolinkonzert D-Dur op. 77 (1879)\n\n\nEdward Elgar  (1857–1934)\nEnigma-Variationen (1899)\n\n\n\nBesetzung\n\nFinnegan Downie Dear \nDirigat \nHana Chang \nVioline \n\n\n\n\n\n\n\n\n1879 – 1899 – 1919: Drei Kompositionen aus drei Epochen\, exakt 20 Jahre voneinander entfernt. Doch nicht nur das verbindet sie. Alle sind eng mit ganz bestimmten Personen verknüpft. Maurice Ravel setzt mit Le Tombeau de Couperin einem der größten Komponisten des französischen Barocks ein musikalisches Denkmal – François Couperin. Edward Elgar portraitiert in seinen Enigma-Variationen Freunde und Wegbegleiter. Wer sich aber hinter den musikalischen Charakterstudien verbirgt\, darum machte er lange ein Rätsel. Das ist längst gelüftet\, der Zauber aber bleibt. Und Brahms’ einziges Violinkonzert wäre ohne Joseph Joachim undenkbar. Der Star-Geiger beriet Brahms nicht nur\, er rang mit ihm um jede Note. Das Ergebnis: eines der populärsten Werke der Violinliteratur. Am Pult steht mit Finnegan Downie Dear eines der verheißungsvollsten Dirigiertalente der internationalen Szene\, und den Namen der Geigerin Hana Chang sollte man sich ebenfalls merken. Da spielt die Zukunftsmusik. Und sie klingt spektakulär.
URL:https://dev.our-events.de/event/verehrt-und-verewigt-4-philharmonisches-konzert/
LOCATION:Die Glocke\, Domsheide 6-8\, Bremen\, 28195
CATEGORIES:Klassik,Konzert
ATTACH;FMTTYPE=image/jpeg:https://dev.our-events.de/wp-content/uploads/2025/09/Downey-Dear©Frank-Bloedhorn-Finn.jpg
END:VEVENT
BEGIN:VEVENT
DTSTART;TZID=Europe/Berlin:20250824T110000
DTEND;TZID=Europe/Berlin:20250824T170000
DTSTAMP:20260422T133740
CREATED:20250807T113312Z
LAST-MODIFIED:20250807T113549Z
UID:41596-1756033200-1756054800@dev.our-events.de
SUMMARY:Eintrittskarten Overbeck-Museum: In den Bergen - Karten täglich gültig zu den Öffnungszeiten
DESCRIPTION:Die Karten sind  täglich zu den Öffnungszeiten gültig. Letzter Tag für eine Ticket-Reservierung ist der 02.11.2025. \n\n\n\n\n\n\nDie aus Bremen stammende Malerin Katrin Ullmann lebt und arbeitet im Wallis in der Schweiz. Ihre Ölgemälde und Aquarelle der Schweizer Bergwelt zeigen die vielfältige Schönheit der Alpenregion mit ihren markanten Gipfeln und scharfen Graten\, mit grünen Tälern und klaren Bergseen. \n\n\n\n\n\n\nHier\, wo die Landschaft mehrere tausend Meter in die Höhe Richtung Himmel vorstößt\, verbinden sich Wolken und Berggipfel zu einer überwältigenden Einheit\, die einzigartige Farben und Lichtverhältnisse hervorbringt. Aber auch einzelne Seenlandschaften in Finnland und Norwegen und norddeutsche Wolkenhimmel hält die Malerin in Bildern fest. \n\n\n\n\n\n\nErgänzt wird die Ausstellung durch Landschaftsgemälde von Fritz und Hermine Overbeck aus der Zeit um 1900. Neben einigen norddeutschen Landschaften stehen auch hier die Schweizer Berge im Mittelpunkt. Denn was kaum jemand weiß: Fritz Overbeck malte im Winter 1908/09 mehrere Wochen lang in der Nähe von Davos. \n\n\n\n\n\n\n\nBitte aktiviere JavaScript in deinem Browser\, um dieses Formular fertigzustellen.Bitte aktiviere JavaScript in deinem Browser\, um dieses Formular fertigzustellen.Bitte das Datum der Veranstaltung angeben *Bitte die Anzahl der zu reservierenden Tickets auswählenIch bin *KulturgastKulturbegleiter:inAnrede Interessent:in *FrauHerrDiversVorname  *Name *E-Mail  *Ich benötige Unterstützung für den Besuch der Veranstaltung *janeinIch möchte den Programm Newsletter der Kulturtafel abonnieren. Das kann ich jederzeit rückgängig machen.janeinDSGVO Einverständnis *Ich willige ein\, dass diese Website meine übermittelten Informationen speichert\, sodass meine Anfrage beantwortet werden kann.Angaben bestätigen
URL:https://dev.our-events.de/event/eintrittskarten-overbeck-museum-in-den-bergen-karten-taeglich-gueltig-zu-den-oeffnungszeiten/
LOCATION:Overbeck Museum\, Alte Hafenstraße 30\, Bremen\, Bremen\, 28757\, Deutschland
CATEGORIES:Ausstellung,Grohn
ATTACH;FMTTYPE=image/png:https://dev.our-events.de/wp-content/uploads/2024/09/Overbeck-Museum.png
END:VEVENT
BEGIN:VEVENT
DTSTART;TZID=Europe/Berlin:20251116T110000
DTEND;TZID=Europe/Berlin:20251116T180000
DTSTAMP:20260422T133740
CREATED:20250613T133042Z
LAST-MODIFIED:20250613T133620Z
UID:39345-1763290800-1763316000@dev.our-events.de
SUMMARY:Eintrittskarten für das Gerhard-Marcks-Haus - Skulpturen von Olaf Brzeski- Karten Di bis So. 10-18 Uhr zu den Öffnungszeiten gültig.
DESCRIPTION:Olaf Brzeski erzählt Geschichten mithilfe von Film\, Zeichnung und Skulptur. Seine Kunstwerke haben oft einen alltäglichen Anlass\, wie etwa eine durch den Raum kreisende Fliege\, die er dann in eine Skulptur umsetzt\, oder kommen umgekehrt aus tiefem Unterbewussten\, wenn er die Begegunungen in seinen Träumen zum Ausgangspunkt für seine Filme macht. Dabei nutzt und mischt er mit großer Selbstverständlichkeit viele Bildtraditionen zwischen Kunstgeschichte und zeitgenössischer Medienwelt. \nAchtet bitte auf das Güligkeitsdatum der Eintrittskarte\, steht auf dem Ticket. Danke. \nCopyright Text & Bild: Museen Böttcherstraße \nBitte aktiviere JavaScript in deinem Browser\, um dieses Formular fertigzustellen.Bitte aktiviere JavaScript in deinem Browser\, um dieses Formular fertigzustellen.Bitte die Anzahl zu reservierender Karten auswählenIch bin *KulturgastKulturbegleiter:inAnrede Interessent:in *FrauHerrDiversVorname  *Name *Straße & Hausnummer *Postleitzahl  *Ort *Telefon Nr. der Interessent:in *E-Mail  *Ich benötige Unterstützung für den Besuch der Veranstaltung *janeinWelche Form der Unterstützung  benötigen Sie?Ich möchte den Programm Newsletter der Kulturtafel abonnieren. Das kann ich jederzeit rückgängig machen.janeinDSGVO Einverständnis *Ich willige ein\, dass diese Website meine übermittelten Informationen speichert\, sodass meine Anfrage beantwortet werden kann.E-Mail-Adresse *Angaben bestätigen
URL:https://dev.our-events.de/event/eintrittskarten-fuer-museen-boettcherstrasse-short-stories-2-karten-von-di-so-zu-den-oeffnungszeiten-gueltig-2/
LOCATION:Gerhard-Marcks-Haus\, Am Wall 208\, Bremen\, 28151
CATEGORIES:Ausstellung,Kunst,Museum
ATTACH;FMTTYPE=image/jpeg:https://dev.our-events.de/wp-content/uploads/2025/05/LogoMarcks.jpg
END:VEVENT
BEGIN:VEVENT
DTSTART;TZID=Europe/Berlin:20251214T160000
DTEND;TZID=Europe/Berlin:20251214T180000
DTSTAMP:20260422T133740
CREATED:20251008T151542Z
LAST-MODIFIED:20251009T121031Z
UID:44080-1765728000-1765735200@dev.our-events.de
SUMMARY:Krach mit Sahne #15: Extra­ordi­Nell
DESCRIPTION:Konzert mit Kaffee & Kuchen\nÜber das Event:\n\nExtraordiNell ist gekommen\, um zu gehen – und zwar in die höchsten Höhen des eigenen Bewusstseins. Bei Ausgabe #15 der Sonntags­konzertreihe »Krach mit Sahne« wird sogenannter »Conscious-Rap« aus Bremen präsentiert\, der die Tiefen des Unter­bewusst­seins umkrempelt und dabei das System in Frage gestellt\, das diese Psyche beeinflusst hat. ExtraordiNell macht Musik\, die dich elevated oder zurücklässt – »Mein Mix ist nicht der Beste\, aber er ist echt. Er ist raw. Er ist selfmade«. \nOhne finanzielle Unterstützung oder Anbindung an ein Label bringt sich Nell alles selber bei. Nachts\, wenn der Geist nicht zur Ruhe kommt. Soziale Ungerech­tigkeit beschäftigt die Bremer Kunstperson in der Kreation sowie im Leben. Wohin sollen wir gehen? The Message is Love! \nExtraordiNell auf …chnerInstagram ↗Spotify ↗Soundcloud ↗ \nEintritt frei\nKaffee & Kuchen gegen Spende \nBarrierefreiheit:\n\n\nAlle Veranstaltungsräume der Schwankhalle sind ebenerdig und stufenlos erreichbar. Das Konzert findet im Foyer statt. Es gibt Steh- und Sitzplätze. \nEs gibt drei verschiedene WCs: Eine barierrefreie Toilette\, die auch für Rollstuhl-­Fahrer*innen nutzbar ist\, eine Toilette mit 3 WC-­Kabinen und eine Toilette mit Pissoirs und einer WC-Kabine. \nWeitere Infos zur Barrierefreiheit unserer Räumlichkeiten finden Sie hier: Barrierefreiheit. Wenn Sie Fragen haben\, kontaktieren Sie uns bitte unter ticket@schwankhalle.de oder 0421 520 80 70.
URL:https://dev.our-events.de/event/krach-mit-sahne-15-extraordinell/
LOCATION:Schwankhalle\, Buntentorsteinweg 112/116\, Bremen\, 28201
CATEGORIES:Konzert,Musik
ATTACH;FMTTYPE=image/jpeg:https://dev.our-events.de/wp-content/uploads/2025/10/Extraordinell_c_Irina-Kirchner_2_web.jpg
END:VEVENT
END:VCALENDAR