BEGIN:VCALENDAR
VERSION:2.0
PRODID:-//Our Events - ECPv6.15.20//NONSGML v1.0//EN
CALSCALE:GREGORIAN
METHOD:PUBLISH
X-ORIGINAL-URL:https://dev.our-events.de
X-WR-CALDESC:Veranstaltungen für Our Events
REFRESH-INTERVAL;VALUE=DURATION:PT1H
X-Robots-Tag:noindex
X-PUBLISHED-TTL:PT1H
BEGIN:VTIMEZONE
TZID:Europe/Berlin
BEGIN:DAYLIGHT
TZOFFSETFROM:+0100
TZOFFSETTO:+0200
TZNAME:CEST
DTSTART:20240331T010000
END:DAYLIGHT
BEGIN:STANDARD
TZOFFSETFROM:+0200
TZOFFSETTO:+0100
TZNAME:CET
DTSTART:20241027T010000
END:STANDARD
BEGIN:DAYLIGHT
TZOFFSETFROM:+0100
TZOFFSETTO:+0200
TZNAME:CEST
DTSTART:20250330T010000
END:DAYLIGHT
BEGIN:STANDARD
TZOFFSETFROM:+0200
TZOFFSETTO:+0100
TZNAME:CET
DTSTART:20251026T010000
END:STANDARD
BEGIN:DAYLIGHT
TZOFFSETFROM:+0100
TZOFFSETTO:+0200
TZNAME:CEST
DTSTART:20260329T010000
END:DAYLIGHT
BEGIN:STANDARD
TZOFFSETFROM:+0200
TZOFFSETTO:+0100
TZNAME:CET
DTSTART:20261025T010000
END:STANDARD
END:VTIMEZONE
BEGIN:VEVENT
DTSTART;TZID=Europe/Berlin:20250601T110000
DTEND;TZID=Europe/Berlin:20250601T130000
DTSTAMP:20260420T234035
CREATED:20250324T134910Z
LAST-MODIFIED:20250327T120840Z
UID:36903-1748775600-1748782800@dev.our-events.de
SUMMARY:Federleichte Höhenflüge //11.Philharmonisches Konzert
DESCRIPTION:Werke von\n\nLera Auerbach  (*1973)\nAdam’s Lament\nUraufführung\n\n\nMieczysław Weinberg  (1919–1996)\nTrompetenkonzert B-Dur op. 94\n\n\nPjotr Iljitsch Tschaikowsky  (1840–1893)\nSymphonie Nr. 5 e-Moll op. 64\n\n\n\nBesetzung\n\nValentin Uryupin \nDirigat \nSelina Ott \nTrompete \n\n\n\n\n\n\n\n\nSie ist eine der derzeit angesagtesten Frauen in der klassischen Musikszene: Lera Auerbach. Die Werke der in den USA lebenden Komponistin\, Dirigentin\, Pianistin und Autorin haben weltweit eine große Fangemeinde. Auerbachs spannende Musik zeichnet sich durch eine große stilistische Freiheit aus und lässt sich nur schwer in irgendwelche Schubladen pressen. Adam’s Lament\, das beim 10.  Philharmonischen Konzert uraufgeführt wird\, ist ein Kompositionsauftrag der Philharmonischen Gesellschaft Bremen. Mit Mieczysław Weinbergs Trompetenkonzert gibt die junge\, schon mehrfach preisgekrönte Trompeterin Selina Ott ihr Debüt bei den Bremer Philharmonikern. Ott gehört mittlerweile zu den unbestrittenen Stars ihrer Profession. Mit dem Weinberg-Konzert spielt sie ein höchst reizvolles Werk des Schostakowitsch-Freundes\, das von diesem immer wieder als regelrechte „Symphonie für Trompete und Orchester“ gepriesen wurde. Danach steht die Schicksalssymphonie auf dem Programm\, allerdings nicht jene von Beethoven\, sondern die von Pjotr Iljitsch Tschaikowsky\, bezeichnenderweise auch seine Fünfte. Wenn das kein Omen ist … \n  \nDie Konzerteinführung beginnt 30 Minuten vor dem Konzert im „Kleinen Saal” der Glocke.
URL:https://dev.our-events.de/event/federleichte-hoehenfluege-11-philharmonisches-konzert/
LOCATION:Die Glocke\, Domsheide 6-8\, Bremen\, 28195
CATEGORIES:Klassik,Konzert
ATTACH;FMTTYPE=image/jpeg:https://dev.our-events.de/wp-content/uploads/2025/03/2_Tabea_Zimmermann_CR_Marco_Borggreve-scaled.jpg
END:VEVENT
END:VCALENDAR