BEGIN:VCALENDAR
VERSION:2.0
PRODID:-//Our Events - ECPv6.15.20//NONSGML v1.0//EN
CALSCALE:GREGORIAN
METHOD:PUBLISH
X-ORIGINAL-URL:https://dev.our-events.de
X-WR-CALDESC:Veranstaltungen für Our Events
REFRESH-INTERVAL;VALUE=DURATION:PT1H
X-Robots-Tag:noindex
X-PUBLISHED-TTL:PT1H
BEGIN:VTIMEZONE
TZID:Europe/Berlin
BEGIN:DAYLIGHT
TZOFFSETFROM:+0100
TZOFFSETTO:+0200
TZNAME:CEST
DTSTART:20240331T010000
END:DAYLIGHT
BEGIN:STANDARD
TZOFFSETFROM:+0200
TZOFFSETTO:+0100
TZNAME:CET
DTSTART:20241027T010000
END:STANDARD
BEGIN:DAYLIGHT
TZOFFSETFROM:+0100
TZOFFSETTO:+0200
TZNAME:CEST
DTSTART:20250330T010000
END:DAYLIGHT
BEGIN:STANDARD
TZOFFSETFROM:+0200
TZOFFSETTO:+0100
TZNAME:CET
DTSTART:20251026T010000
END:STANDARD
BEGIN:DAYLIGHT
TZOFFSETFROM:+0100
TZOFFSETTO:+0200
TZNAME:CEST
DTSTART:20260329T010000
END:DAYLIGHT
BEGIN:STANDARD
TZOFFSETFROM:+0200
TZOFFSETTO:+0100
TZNAME:CET
DTSTART:20261025T010000
END:STANDARD
END:VTIMEZONE
BEGIN:VEVENT
DTSTART;TZID=Europe/Berlin:20251105T180500
DTEND;TZID=Europe/Berlin:20251105T190500
DTSTAMP:20260420T212222
CREATED:20250924T111824Z
LAST-MODIFIED:20250924T162212Z
UID:43510-1762365900-1762369500@dev.our-events.de
SUMMARY:Beethovens Federkiel // 2. 5nachsechs - Afterworkkonzert
DESCRIPTION:Werke von\n\nLudwig van Beethoven  (1770–1827)\nSymphonie Nr. 2 D-Dur op. 36 (1803)\n\n\nBrett Dean  (*1961)\nTestament\n\n\n\nBesetzung\n\nMarko Letonja \nDirigat und Moderation \n\n\n\n\n\nErleben Sie eine gute Stunde Musik und Moderation\, ohne Pause\, kurzweilig\, zwanglos\, auf höchstem Niveau. Die Afterwork-Konzerte der Bremer Philharmoniker bieten großes Orchester und ein lebendiges und abwechslungsreiches Programm mit interessanten und überraschenden Extras.
URL:https://dev.our-events.de/event/beethovens-federkiel-2-5nachsechs-afterworkkonzert/
LOCATION:Die Glocke\, Domsheide 6-8\, Bremen\, 28195
CATEGORIES:Konzert
ATTACH;FMTTYPE=image/jpeg:https://dev.our-events.de/wp-content/uploads/2025/09/Marko-Letonja-Credits-Caspar-Sessler-l2-scaled.jpg
END:VEVENT
BEGIN:VEVENT
DTSTART;TZID=Europe/Berlin:20251125T193000
DTEND;TZID=Europe/Berlin:20251125T213000
DTSTAMP:20260420T212222
CREATED:20250924T104136Z
LAST-MODIFIED:20250924T162441Z
UID:43499-1764099000-1764106200@dev.our-events.de
SUMMARY:Von Freibeutern und  Freiheitskämpfern // 3.Philharmonisches Konzert
DESCRIPTION:Werke von\n\nAaron Copland  (1900–1990)\nFanfare for the Common Man (1942)\n\n\nErich Wolfgang Korngold  (1897–1957)\nThe Sea Hawk Suite (1940)\n\n\nAaron Copland  (1900–1990)\nBilly the Kid (1938)\n\n\nJean Sibelius  (1865–1957)\nSymphonie Nr. 2 D-Dur op. 43 (1902)\n\n\n\nBesetzung\n\nJonathan Stockhammer \nDirigat \n\n\n\n\n\n\n\n\nSie ist ein ikonisch gewordenes Meisterwerk: Aaron Coplands legendäre Fanfare for the Common Man. Diese Musik verspricht Gänsehaut pur. Zusammen mit der Ballettmusik zu Billy the Kid steht sie für den Klang Amerikas – endlose Weiten\, ungebrochener Abenteuergeist\, ein Pathos\, das bis heute nachhallt. Echte Abenteuer bietet Erich Wolfgang Korngolds Suite aus The Sea Hawk. Hollywood war Korngolds neue Heimat und Filmmusik seine künstlerische Rettung. Mit Korngolds üppigem Orchesterklang als Kino für die Ohren verspricht der epische Soundtrack zu The Sea Hawk Dramatik pur. Und Sibelius? Er gilt als Inbegriff des nordischen Klangs. Kein Komponist hat Finnland musikalisch so geprägt wie er. Seine zweite Symphonie ist mehr als „nur“ Musik\, sie ist auch eine Geschichte des Protestes\, der Hoffnung\, des finnischen Freiheitskampfes. Nicht umsonst trägt sie den Beinamen „Symphonie der Unabhängigkeit“. Ein Manifest in Tönen\, gewaltig\, mutig\, zeitlos.
URL:https://dev.our-events.de/event/von-freibeutern-und-freiheitskaempfern-3-philharmonisches-konzert/
LOCATION:Die Glocke\, Domsheide 6-8\, Bremen\, 28195
CATEGORIES:Klassik,Konzert
ATTACH;FMTTYPE=image/jpeg:https://dev.our-events.de/wp-content/uploads/2025/09/Jonathan-Stockhammer-4_klein_CR-Marco-Borggreve.jpeg
END:VEVENT
END:VCALENDAR