BEGIN:VCALENDAR
VERSION:2.0
PRODID:-//Our Events - ECPv6.15.20//NONSGML v1.0//EN
CALSCALE:GREGORIAN
METHOD:PUBLISH
X-ORIGINAL-URL:https://dev.our-events.de
X-WR-CALDESC:Veranstaltungen für Our Events
REFRESH-INTERVAL;VALUE=DURATION:PT1H
X-Robots-Tag:noindex
X-PUBLISHED-TTL:PT1H
BEGIN:VTIMEZONE
TZID:Europe/Berlin
BEGIN:DAYLIGHT
TZOFFSETFROM:+0100
TZOFFSETTO:+0200
TZNAME:CEST
DTSTART:20240331T010000
END:DAYLIGHT
BEGIN:STANDARD
TZOFFSETFROM:+0200
TZOFFSETTO:+0100
TZNAME:CET
DTSTART:20241027T010000
END:STANDARD
BEGIN:DAYLIGHT
TZOFFSETFROM:+0100
TZOFFSETTO:+0200
TZNAME:CEST
DTSTART:20250330T010000
END:DAYLIGHT
BEGIN:STANDARD
TZOFFSETFROM:+0200
TZOFFSETTO:+0100
TZNAME:CET
DTSTART:20251026T010000
END:STANDARD
BEGIN:DAYLIGHT
TZOFFSETFROM:+0100
TZOFFSETTO:+0200
TZNAME:CEST
DTSTART:20260329T010000
END:DAYLIGHT
BEGIN:STANDARD
TZOFFSETFROM:+0200
TZOFFSETTO:+0100
TZNAME:CET
DTSTART:20261025T010000
END:STANDARD
END:VTIMEZONE
BEGIN:VEVENT
DTSTART;TZID=Europe/Berlin:20251008T180500
DTEND;TZID=Europe/Berlin:20251008T190500
DTSTAMP:20260424T193733
CREATED:20250822T065906Z
LAST-MODIFIED:20250822T102202Z
UID:42184-1759946700-1759950300@dev.our-events.de
SUMMARY:Auf-und-Untergang // 1. 5nachsechs Afterwork Konzert
DESCRIPTION:Werke von\n\nCarl Nielsen  (1865–1931)\nHelios Ouvertüre op. 17\n\n\nRobert Schumann  (1810–1856)\nSymphonie Nr. 4 d-Moll op. 120\n\n\n\nBesetzung\n\nStephanie Childress \nDirigat und Moderation
URL:https://dev.our-events.de/event/auf-und-untergang-1-5nachsechs-afterwork-konzert/
LOCATION:Die Glocke\, Domsheide 6-8\, Bremen\, 28195
CATEGORIES:Klassik,Konzert,Musik
ATTACH;FMTTYPE=image/jpeg:https://dev.our-events.de/wp-content/uploads/2025/08/Stephanie-Childress-Karoloina-Heller_h.jpg
END:VEVENT
BEGIN:VEVENT
DTSTART;TZID=Europe/Berlin:20251029T200000
DTEND;TZID=Europe/Berlin:20251029T220000
DTSTAMP:20260424T193733
CREATED:20251008T092751Z
LAST-MODIFIED:20251008T101038Z
UID:44015-1761768000-1761775200@dev.our-events.de
SUMMARY:GLOCKE JAZZnights // Tingvall Trio
DESCRIPTION:Das Tingvall Trio – was für eine Erfolgsgeschichte! 2003 in Hamburg gegründet\, gehört es in seiner gleich gebliebenen Besetzung zu den erfolgreichsten deutschen Formationen mit mehreren ECHO Jazz Preisen\, Jazz Awards in Gold sowie einer ganzen Serie von Nr.-1-Jazz-Charts-Alben. Seit Beginn an entsteht das ganz eigene Ausdrucksspektrum des Trios aus den unterschiedlichen Herkunftsländern seiner Mitglieder: Pianist und Komponist Martin Tingvall kommt aus Schweden\, Bassist Omar Rodriguez Calvo aus Kuba und Schlagzeuger Jürgen Spiegel aus Deutschland (und zwar aus Bremen!). Und so werden die Kompositionen von Martin Tingvall im immer wieder sich neu befruchtenden Zusammenspiel des Trios in Proben und Konzerten bis zur finalen Reife erarbeitet. Vom wild-ausgelassenen Voranpreschen bis zum besinnlich-poetischen Innehalten\, das Tingvall Trio fesselt mit Eleganz\, Spielfreude und melodischer Finesse als eine Formation dreier auf Augenhöhe interagierender Künstler\, die sich gegenseitig zu Höchstleistungen inspirieren! \nMartin Tingvall Klavier\nOmar Rodriguez Calvo Kontrabass\nJürgen Spiegel Schlagzeug \nCopyright Text & Bild: © Steven Haberland
URL:https://dev.our-events.de/event/glocke-jazznights-tingvall-trio/
LOCATION:Die Glocke\, Domsheide 6-8\, Bremen\, 28195
CATEGORIES:Jazz / Weltmusik
ATTACH;FMTTYPE=image/jpeg:https://dev.our-events.de/wp-content/uploads/2025/10/Tingvall-Trio-by-Steven-Haberland-scaled.jpg
END:VEVENT
END:VCALENDAR